BEGIN:VCALENDAR
VERSION:2.0
PRODID:-//eventon.com NONSGML v1.0//EN
CALSCALE:GREGORIAN
METHOD:PUBLISH
BEGIN:VEVENT
UID:69ea8060db3c2
DTSTAMP:20260423T202608Z
DTSTART:20240303T090000Z
DTEND:20240303T225000Z
LOCATION:Kerk de Bron Hugo de Vrieslaan 2
SUMMARY:Kerkdienst
DESCRIPTION:Voorganger: Gerbrand Molenaar\nhttps://kerkdebron.org/events/ke
 rkdienst-27/
URL:https://kerkdebron.org/events/kerkdienst-27/
END:VEVENT
END:VCALENDAR