BEGIN:VCALENDAR
VERSION:2.0
PRODID:-//eventon.com NONSGML v1.0//EN
CALSCALE:GREGORIAN
METHOD:PUBLISH
BEGIN:VEVENT
UID:69e62c2ce07af
DTSTAMP:20260420T133748Z
DTSTART:20231209T081500Z
DTEND:20231209T103000Z
LOCATION:Kerk de Bron Hugo de Vrieslaan 2
SUMMARY:Brood- en Viskring
DESCRIPTION:Elke tweede zaterdag van de maand is er Brood- en Viskring. Sam
 en met elkaar steken we de handen heel praktisch uit de mouwen en doen we k
 lusjes rondom de kerk. Zo proberen we als de broden en vissen te zijn die J
 ezus vermenigvuldigde: een kleine hoeveelheid kan hele massa&#8217;s voeden
 .[..]\nhttps://kerkdebron.org/events/brood-en-viskring-3/
URL:https://kerkdebron.org/events/brood-en-viskring-3/
END:VEVENT
END:VCALENDAR